BEGIN:VCALENDAR
VERSION:2.0
PRODID:-//Kulturhausverein Untertürkheim e.V. - ECPv6.15.20//NONSGML v1.0//EN
CALSCALE:GREGORIAN
METHOD:PUBLISH
X-WR-CALNAME:Kulturhausverein Untertürkheim e.V.
X-ORIGINAL-URL:https://kulturhausverein.de
X-WR-CALDESC:Veranstaltungen für Kulturhausverein Untertürkheim e.V.
REFRESH-INTERVAL;VALUE=DURATION:PT1H
X-Robots-Tag:noindex
X-PUBLISHED-TTL:PT1H
BEGIN:VTIMEZONE
TZID:Europe/Berlin
BEGIN:DAYLIGHT
TZOFFSETFROM:+0100
TZOFFSETTO:+0200
TZNAME:CEST
DTSTART:20240331T010000
END:DAYLIGHT
BEGIN:STANDARD
TZOFFSETFROM:+0200
TZOFFSETTO:+0100
TZNAME:CET
DTSTART:20241027T010000
END:STANDARD
BEGIN:DAYLIGHT
TZOFFSETFROM:+0100
TZOFFSETTO:+0200
TZNAME:CEST
DTSTART:20250330T010000
END:DAYLIGHT
BEGIN:STANDARD
TZOFFSETFROM:+0200
TZOFFSETTO:+0100
TZNAME:CET
DTSTART:20251026T010000
END:STANDARD
BEGIN:DAYLIGHT
TZOFFSETFROM:+0100
TZOFFSETTO:+0200
TZNAME:CEST
DTSTART:20260329T010000
END:DAYLIGHT
BEGIN:STANDARD
TZOFFSETFROM:+0200
TZOFFSETTO:+0100
TZNAME:CET
DTSTART:20261025T010000
END:STANDARD
END:VTIMEZONE
BEGIN:VEVENT
DTSTART;TZID=Europe/Berlin:20250524T190000
DTEND;TZID=Europe/Berlin:20250524T210000
DTSTAMP:20260425T231542
CREATED:20241216T123754Z
LAST-MODIFIED:20250517T202650Z
UID:1080-1748113200-1748120400@kulturhausverein.de
SUMMARY:OPTIMAL? - FATAL! - Samstag\, 24.05.2025 - 19:00 Uhr
DESCRIPTION:OPTIMAL? – FATAL!  Samstag\, 24.05.2025 – 19:00 Uhr\nOptimierungswahnsinn – auf die Spitze getrieben …\neine musikalische Komödie in drei Akten\n\n„Wie wäre es denn\, wenn es schön wäre?“ Die Kernfrage des Life-Coachings führt uns direkt ins Luxusresort „Waldesruh am Kappelberg“\, wo man mit allen sechs Sinnen den Göttern der Selbstoptimierung huldigt. Dieses Anwesen\, ausgestattet mit Gourmetrestaurant\, Sportklinik\, üppigem Spa-Areal und vieles mehr\, ist ein wahrer Tempel für moderne Pilger*innen aller Art. Renate Brosch packt den heutigen Wahnsinn um Ernährung\, Sport\, Schönheits-OPs\, spiritueller Erleuchtung und Wellness in eine spannende Bühnenshow mit Musik aller Genres… Oper\, Operette\,Musical\, Chanson\, Pop… \nAusführende:\nSänger*innen des „Studio für Gesang Renate Brosch“\nKlavier: Renate Brosch\, Daniela Wolff\nBühnenbild: Marlene Blumenstock\nKonzeption\, Drehbuch und Regie: Renate Brosch\nVeranstaltungsort:\nTurnhalle TGV Rotenberg\, Im Graben 6\, 70327 Stuttgart-Rotenberg \nSamstag\, 24.05.2025 – 19:00 Uhr\n+ Sonntag\, 25.05.2025 – 19:00 Uhr\nEintritt: 18 €
URL:https://kulturhausverein.de/event/optimal-fatal-samstag-24-05-2025-19-00-uhr/
LOCATION:Turnhalle TGV Rotenberg\, Im Graben 6\, Stuttgart-Rotenberg\, 70327\, Germany
CATEGORIES:Musik,Theater
ATTACH;FMTTYPE=image/png:https://kulturhausverein.de/wp-content/uploads/2024/12/OPTIMAL-FATAL.png
ORGANIZER;CN="Kulturhausverein Untert%C3%BCrkheim e.V.":MAILTO:kartenvorbestellung@kulturhausverein.de
END:VEVENT
END:VCALENDAR